BEGIN:VCALENDAR
VERSION:2.0
PRODID:-//Lancaster House - ECPv6.15.4//NONSGML v1.0//EN
CALSCALE:GREGORIAN
METHOD:PUBLISH
X-ORIGINAL-URL:https://lancasterhouse.com
X-WR-CALDESC:Events for Lancaster House
REFRESH-INTERVAL;VALUE=DURATION:PT1H
X-Robots-Tag:noindex
X-PUBLISHED-TTL:PT1H
BEGIN:VTIMEZONE
TZID:America/St_Johns
BEGIN:DAYLIGHT
TZOFFSETFROM:-0330
TZOFFSETTO:-0230
TZNAME:NDT
DTSTART:20240310T053000
END:DAYLIGHT
BEGIN:STANDARD
TZOFFSETFROM:-0230
TZOFFSETTO:-0330
TZNAME:NST
DTSTART:20241103T043000
END:STANDARD
END:VTIMEZONE
BEGIN:VEVENT
DTSTART;TZID=America/St_Johns:20241126T090000
DTEND;TZID=America/St_Johns:20241127T160000
DTSTAMP:20260421T182629
CREATED:20240620T174835Z
LAST-MODIFIED:20241126T191514Z
UID:13689-1732611600-1732723200@lancasterhouse.com
SUMMARY:Effective Grievance Handling and Arbitration Advocacy: Intensive Training for Employers and Unions
DESCRIPTION:Facilitator\n\n \nChantelle MacDonald Newhook K.C.\, Q.Arb\nArbitrator\, Mediator\, Workplace Investigator\nDispute Winners\nVice-Chair\nNewfoundland and Labrador Labour Relations Board \n\n\nThis virtual program is taking place in partnership with the Gardiner Centre at Memorial University.Fittingly\, it will have an Atlantic focus and will be taking place on Newfoundland time. \nSpeakers\n\n \nSteve Penney\nEmployer Counsel\nStewart McKelvey \n\n\n \nKyle Rees\nUnion Counsel\nO’Dea Earle \n\n\nProgram DetailsEmployer and union representatives should cultivate the skills and knowledge necessary to resolve grievances early\, before expensive and unpredictable arbitration is necessary. But\, not every grievance can be settled without arbitration. When arbitration is necessary\, both employer and union representatives need to be able to effectively mount a successful grievance arbitration case or to give maximum assistance to counsel. \nOver the course of this workshop\, experienced employer and union advocates\, joined by an arbitrator on day two\, will lead participants in discussion of strategies for settling grievances before arbitration and explain how to win cases at arbitration when necessary. \nWorking through a realistic grievance with the guidance of experts\, participants will learn to: \n\nPrepare effectively for formal grievance meetings;\nDetermine which grievances should go to arbitration;\nIdentify key issues\, strengths\, and weaknesses of a grievance;\nAddress preliminary issues\, such as timeliness;\nObtain and provide appropriate disclosure;\nPrepare\, examine\, and cross-examine witnesses;\nMake persuasive opening and closing statements.\n\nCPD\n\n\nThis program has been approved by CPHR Nova Scotia for 11 Continuing Professional Development hours.\n\n\n \n\nMembers of CPHR Newfoundland & Labrador may consider counting this program for 11 Continuing Professional Development hours.\nMembers of the Nova Scotia Barristers’ Society may consider counting this program for 11 Continuing Professional Development hours.
URL:https://lancasterhouse.com/event/effective-grievance-handling-and-arbitration-advocacy/
LOCATION:Virtual Event
CATEGORIES:Professional Learning Program
ATTACH;FMTTYPE=image/jpeg:https://lancasterhouse.com/wp-content/uploads/2024/06/EGGHAA.jpg
END:VEVENT
END:VCALENDAR