BEGIN:VCALENDAR
VERSION:2.0
PRODID:-//Lancaster House - ECPv6.15.4//NONSGML v1.0//EN
CALSCALE:GREGORIAN
METHOD:PUBLISH
X-WR-CALNAME:Lancaster House
X-ORIGINAL-URL:https://lancasterhouse.com
X-WR-CALDESC:Events for Lancaster House
REFRESH-INTERVAL;VALUE=DURATION:PT1H
X-Robots-Tag:noindex
X-PUBLISHED-TTL:PT1H
BEGIN:VTIMEZONE
TZID:America/New_York
BEGIN:DAYLIGHT
TZOFFSETFROM:-0500
TZOFFSETTO:-0400
TZNAME:EDT
DTSTART:20250309T070000
END:DAYLIGHT
BEGIN:STANDARD
TZOFFSETFROM:-0400
TZOFFSETTO:-0500
TZNAME:EST
DTSTART:20251102T060000
END:STANDARD
END:VTIMEZONE
BEGIN:VEVENT
DTSTART;TZID=America/New_York:20251204T090000
DTEND;TZID=America/New_York:20251204T170000
DTSTAMP:20260421T214859
CREATED:20250129T185640Z
LAST-MODIFIED:20250617T151236Z
UID:15681-1764838800-1764867600@lancasterhouse.com
SUMMARY:Intensive Mediation Workshop
DESCRIPTION:In association with:Upon completion of this program\, participants will receive a digital credential from Toronto Metropolitan University. \n\n\n \nDaphne Taras\nProfessor and DirectorCentre for Labour-Management RelationsToronto Metropolitan University \n\n\nProgram Leader\n\n \nPaula Knopf\nArbitration/Mediator \n\n\nProgram Faculty\n\n \nDaphne Taras\nProfessor and Director\nCentre for Labour-Management Relations\nToronto Metropolitan University \n\n\nThis intensive professional learning program is designed to develop the advanced dispute resolution skills that labour relations professionals need in order to be successful in their roles. \nParticipants will have the opportunity to observe dispute resolution techniques used by experienced professional mediators — and to use those techniques as they attempt to resolve a workplace dispute. To make the simulation as realistic as possible\, actors will play the role of the aggrieved party. \nAimed at labour relations professionals with basic to intermediate knowledge of mediation and workplace dispute resolution techniques\, this session aims not to create professional mediators but to equip participants with the knowledge and skills necessary to: \n\nDefuse tensions and manage workplace conflict\nResolve grievances without resorting to lengthy and expensive arbitration processes\nMake effective use of informal and formal mediation as a management or union representative\n\nWho is this program designed for? \n\nGraduates of the Lancaster House–Toronto Metropolitan University Labour Relations Certificate Program\nLabour relations professionals with 3 or more years of experience working full-time for an employer or a union\, including:\n\nHuman resources professionals\nLabour relations officers\nLocal union leadership\nManagers\nUnion staff\n\n\nLabour and employment lawyers in their first 5 years of practice\n\nTo ensure interactivity as well as opportunities for skill-building and personalized feedback\, spaces in this program are extremely limited. We hope you’ll join us. \nCPD\n\n\nThis program has been approved by CPHR Alberta for 6.5 Continuing Professional Development hours.\n\n\n\n\nThis program has been approved by CPHR BC & Yukon for 6.5 Continuing Professional Development hours.\n\n\n\n\nThis program has been approved for 6.5 Continuing Professional Development (CPD) hours under Section A of the Continuing Professional Development Log of the Human Resource Professionals Association (HRPA).\n\n\n\n\n \n\nThis program has been approved by the Law Society of British Columbia for 6.5 Continuing Professional Development hours.\nMembers of the Law Society of Ontario may consider counting this program for 6.5 substantive hours; 0 professionalism hours.\nMembers of the Nova Scotia Barristers’ Society may consider counting this program for 6.5 Continuing Professional Development hours.\nMembers of the Law Society of New Brunswick may consider this program for 6.5 Continuing Professional Development hours.
URL:https://lancasterhouse.com/event/intensive-mediation-workshop-2025/
LOCATION:Virtual Event
CATEGORIES:Professional Learning Program
ATTACH;FMTTYPE=image/jpeg:https://lancasterhouse.com/wp-content/uploads/header/TMU-header.jpg
END:VEVENT
END:VCALENDAR