BEGIN:VCALENDAR
VERSION:2.0
PRODID:-//Lancaster House - ECPv6.15.4//NONSGML v1.0//EN
CALSCALE:GREGORIAN
METHOD:PUBLISH
X-ORIGINAL-URL:https://lancasterhouse.com
X-WR-CALDESC:Events for Lancaster House
REFRESH-INTERVAL;VALUE=DURATION:PT1H
X-Robots-Tag:noindex
X-PUBLISHED-TTL:PT1H
BEGIN:VTIMEZONE
TZID:UTC
BEGIN:STANDARD
TZOFFSETFROM:+0000
TZOFFSETTO:+0000
TZNAME:UTC
DTSTART:20260101T000000
END:STANDARD
END:VTIMEZONE
BEGIN:VEVENT
DTSTART;TZID=UTC:20260129T123000
DTEND;TZID=UTC:20260129T140000
DTSTAMP:20260423T065521
CREATED:20250825T163748Z
LAST-MODIFIED:20260112T174132Z
UID:17441-1769689800-1769695200@lancasterhouse.com
SUMMARY:2026 Annual Human Rights Update: The latest cases and legislative developments
DESCRIPTION:$595.00Add to cart	\n			\n  \nLancaster’s Annual Human Rights Update returns to bring you the latest cases and updates on Canadian human rights law. Our dynamic speakers\, who include experts in labour\, employment\, and human rights law\, will share their insights and practical tips for you to bring back to your practice\, your union\, or your HR team! Topics include: \n\nWhat kinds of accommodations have courts recognized as reasonable accommodations for disabilities? What qualifies as “undue hardship” for an employer when it comes to disability accommodation?\nWhen might an employer’s ‘unconscious bias’ constitute discrimination in hiring?\nWhen will an employee’s discriminatory or controversial views expressed online or in the workplace lead to discharge?\nWhat are the latest trends and updates in the area of family status discrimination?\nHow might AI-driven management impact an employee’s privacy and corresponding human rights? What are the limits of employer surveillance and monitoring?\nWhat has changed in the decisions relating to substance use cases and policies?\nWhat trends are emerging in damage awards for discrimination\, failure to accommodate\, and reprisal claims? How high has the bar been raised?\n\nFinal selection of topics will take place in the weeks leading up to the webinar\, ensuring coverage of the latest and most newsworthy topics in a shifting legal landscape. \n\nModerator \n\n\n \nEdith Bramwell\nChairperson\nFederal Public Sector Labour Relations and Employment Board \n\n\n\nSpeakers \n\n\n \nDaniel McBain\nUnion Counsel\nMoore Edgar Lyster LLP \n\n\n \nKhiam Nong\nEmployer Counsel\nGowling WLG \n\n\n\nAccreditation \nCPD\n\n\nThis program has been approved by CPHR Alberta for 1.5 Continuing Professional Development hours.\n\n\n\n\nThis program has been approved by CPHR BC & Yukon for 1.5 Continuing Professional Development hours.\n\n\n\n\n \nThis program has been approved for 1.5 Continuing Professional Development (CPD) hours under Section A of the Continuing Professional Development (CPD) Log of the Human Resource Professionals Association (HRPA). \n\n\n\n\n\n \n\nThis program has been approved for EDI Professionalism hours by the Law Society of Ontario for 0 hours and 25 minutes.\nThis program has been approved by the Law Society of British Columbia for 1.5 Continuing Professional Development hours.\nMembers of the Law Society of New Brunswick may consider this program for 1.5 Continuing Professional Development hours.\nMembers of the Law Society of Ontario may consider counting this program for 1.5 Substantive hours; 0 Professionalism hours.\nMembers of the Nova Scotia Barristers’ Society may consider counting this program for 1.5 Continuing Professional Development hours.
URL:https://lancasterhouse.com/event/2026-annual-human-rights-update-the-latest-cases-and-legislative-developments/
LOCATION:Virtual Event
CATEGORIES:Webinar
ATTACH;FMTTYPE=image/jpeg:https://lancasterhouse.com/wp-content/uploads/2025/08/2026-Annual-Human-Rights-Update-The-latest-cases-and-legislative-developments-3.jpg
END:VEVENT
END:VCALENDAR