BEGIN:VCALENDAR
VERSION:2.0
PRODID:-//Lancaster House - ECPv6.15.4//NONSGML v1.0//EN
CALSCALE:GREGORIAN
METHOD:PUBLISH
X-WR-CALNAME:Lancaster House
X-ORIGINAL-URL:https://lancasterhouse.com
X-WR-CALDESC:Events for Lancaster House
REFRESH-INTERVAL;VALUE=DURATION:PT1H
X-Robots-Tag:noindex
X-PUBLISHED-TTL:PT1H
BEGIN:VTIMEZONE
TZID:America/New_York
BEGIN:DAYLIGHT
TZOFFSETFROM:-0500
TZOFFSETTO:-0400
TZNAME:EDT
DTSTART:20260308T070000
END:DAYLIGHT
BEGIN:STANDARD
TZOFFSETFROM:-0400
TZOFFSETTO:-0500
TZNAME:EST
DTSTART:20261101T060000
END:STANDARD
END:VTIMEZONE
BEGIN:VEVENT
DTSTART;VALUE=DATE:20261008
DTEND;VALUE=DATE:20261009
DTSTAMP:20260420T224932
CREATED:20260211T165445Z
LAST-MODIFIED:20260410T182633Z
UID:19061-1791417600-1791503999@lancasterhouse.com
SUMMARY:Ontario Labour Law Skills Training Workshop
DESCRIPTION:Program Overview \nComing Soon. \n\nWhat You’ll Learn: \nComing Soon. \n\nWho Should Attend \nComing Soon. \nDelivery Format \nComing Soon. \n\nOntario Labour Law Skills Training Workshop \nComing Soon. \n\nFood and Beverages \nBreakfast and lunch to be provided\, with a variety of snacks and refreshments available during breaks. Breakfast is provided prior to the workshop and will be available starting at 8:00 am. Please share any dietary requirements at the time of registration so we can best accommodate your needs. \n\nPricing \nOntario Labour Law Conference – Workshop $1\,255.00Add to cart	\n			\n  \nBundle pricing is also available: \n\nOntario Labour Law Conference & Workshop – Bundle (Conference + Workshop)  \n$2\,195.00Add to cart	\n			\n \n\nSpeakers \nComing Soon. \nCPD \nCPD\nLancaster House provides professional education programs that qualify for CPD credit for human resources professionals\, lawyers\, and paralegals across Canada.
URL:https://lancasterhouse.com/event/ontario-labour-law-skills-training-workshop/
LOCATION:Rogers Centre Ottawa\, 55 Colonel By Drive\, Ottawa\, Ontario\, K1N 9J2\, Canada
CATEGORIES:Labour Law & Labour Policy,Skills Training,Workshop
ATTACH;FMTTYPE=image/jpeg:https://lancasterhouse.com/wp-content/uploads/2024/06/speaker-header.jpg
END:VEVENT
END:VCALENDAR