BEGIN:VCALENDAR
VERSION:2.0
PRODID:-//Lancaster House - ECPv6.15.4//NONSGML v1.0//EN
CALSCALE:GREGORIAN
METHOD:PUBLISH
X-WR-CALNAME:Lancaster House
X-ORIGINAL-URL:https://lancasterhouse.com
X-WR-CALDESC:Events for Lancaster House
REFRESH-INTERVAL;VALUE=DURATION:PT1H
X-Robots-Tag:noindex
X-PUBLISHED-TTL:PT1H
BEGIN:VTIMEZONE
TZID:UTC
BEGIN:STANDARD
TZOFFSETFROM:+0000
TZOFFSETTO:+0000
TZNAME:UTC
DTSTART:20260101T000000
END:STANDARD
END:VTIMEZONE
BEGIN:VEVENT
DTSTART;TZID=UTC:20261210T123000
DTEND;TZID=UTC:20261210T140000
DTSTAMP:20260423T162049
CREATED:20250825T193944Z
LAST-MODIFIED:20260423T172421Z
UID:17514-1796905800-1796911200@lancasterhouse.com
SUMMARY:2026 Annual Employment Law and Wrongful Dismissal Update: The latest cases and legislative developments
DESCRIPTION:Select an option\n                                            \n                    Live Webinar                \n                                            \n                    Live Webinar\, video\, and MP3 Bundle                \n                    \n\n        \n\n        Add to Cart\n    \n\n    \n     \n\nComing Soon. \nModerator \n\nComing Soon. \n\n\nSpeakers \n\n\nComing Soon. \n\n\n\nLive Webinar: Attend the session in real time and engage directly with the speakers. \nIncludes: \n\nDownloadable comprehensive reference materials researched by Lancaster House lawyers\nAccess to the live session\nOpportunity to ask the experts direct questions and participate in the chat with your peers\n\nOption: Live Webinar$295.00Add to cart	\n			\n  \nBundle (Video\, MP3\, & Audio)Get the full live experience plus post-event resources for continued learning. \nIncludes: \n\nDownloadable comprehensive reference materials researched by Lancaster House lawyers\nAccess to the live session\nOpportunity to ask the experts direct questions and participate in the chat with your peers\nVideo recording of the session\nMP3 audio recording\nFull transcript\n\nOption: Live Webinar\, video\, and MP3 Bundle$595.00Add to cart	\n			\n  \nWebinar On DemandAccess the session anytime\, at your convenience. On-demand content is only available after the live session has concluded. For a full list of Lancaster’s library of webinars on demand\, click here. \nIncludes: \n\nDownloadable comprehensive reference materials researched by Lancaster House lawyers\nVideo recording of the session\nMP3 audio recording\nFull transcript\n\nAccreditation \nCPD\nLancaster House provides professional education programs that qualify for CPD credit for human resources professionals\, lawyers\, and paralegals across Canada.
URL:https://lancasterhouse.com/event/2026-annual-employment-law-and-wrongful-dismissal-update-the-latest-cases-and-legislative-developments/
LOCATION:Virtual Event
CATEGORIES:Webinar
ATTACH;FMTTYPE=image/jpeg:https://lancasterhouse.com/wp-content/uploads/2024/06/speaker-header.jpg
END:VEVENT
END:VCALENDAR