BEGIN:VCALENDAR
VERSION:2.0
PRODID:-//Lancaster House - ECPv6.15.4//NONSGML v1.0//EN
CALSCALE:GREGORIAN
METHOD:PUBLISH
X-ORIGINAL-URL:https://lancasterhouse.com
X-WR-CALDESC:Events for Lancaster House
REFRESH-INTERVAL;VALUE=DURATION:PT1H
X-Robots-Tag:noindex
X-PUBLISHED-TTL:PT1H
BEGIN:VTIMEZONE
TZID:America/New_York
BEGIN:DAYLIGHT
TZOFFSETFROM:-0500
TZOFFSETTO:-0400
TZNAME:EDT
DTSTART:20260308T070000
END:DAYLIGHT
BEGIN:STANDARD
TZOFFSETFROM:-0400
TZOFFSETTO:-0500
TZNAME:EST
DTSTART:20261101T060000
END:STANDARD
END:VTIMEZONE
BEGIN:VEVENT
DTSTART;VALUE=DATE:20261202
DTEND;VALUE=DATE:20261203
DTSTAMP:20260424T082025
CREATED:20260319T193642Z
LAST-MODIFIED:20260423T191119Z
UID:19341-1796169600-1796255999@lancasterhouse.com
SUMMARY:Public Sector Bargaining Conference
DESCRIPTION:Overview \nLancaster House’s Ontario Bargaining in the Broader Public Sector Conference will offer essential updates and analysis for union and management representatives\, legal practitioners\, and labour relations professionals. \nTo deepen your learning\, don’t miss the interactive Skills Training Workshop\, taking place at the same venue on on Wednesday\, December 2. This full-day session will allow attendees to work through realistic scenarios with guidance and analysis from experienced panelists\, offering practical tools and strategic insights to help you respond to evolving bargaining demands. \n\nWhat to Expect \nThe day will begin with a networking breakfast\, giving attendees the chance to connect with colleagues and peers before diving into the program. Throughout the conference\, you’ll have multiple opportunities to engage with others in the field—during refreshment breaks\, over lunch\, and between sessions—making this not only a learning opportunity but a valuable space to exchange ideas\, compare experiences\, and build professional relationships. \nPanelists will include leading voices from union\, management\, and neutral perspectives\, with moderated discussions and interactive Q&A sessions to encourage dialogue and deeper insight. \nAll attendees will also receive a comprehensive digital resource package\, including case summaries\, textbook chapters\, and legal commentary compiled by Lancaster House’s legal research lawyers. \n\nWho Should Attend? \nThis conference is ideal for: \n\nUnion Negotiators – Connect with other union leaders and hear from top voices on strategies at the table.\n\n\nGovernment Representatives and Human Resources (HR) Managers and Directors – Build bargaining approaches informed by the latest legal and economic developments while connecting with and hearing from union counterparts.\n\n\nIndustrial Relations Specialists and Labour Lawyers/Consultants – Stay up to date on the latest developments impacting public sector bargaining and evolving collective agreement language on complex and emerging workplace issues.\n\n\nLearning Outcomes \nBy attending this conference\, you will: \n\nGain a comprehensive understanding of federal and Ontario economic and fiscal outlooks and the implications for labour relations\, and how this may impact public sector bargaining. \n\n\nLearn how to translate these economic realities into bargaining strategies and understand and communicate how the statistics may impact approaches at the table.\n\n\nKeep informed on recent cases and legislative changes impacting bargaining\, including the legality of government interventions in strike actions.\n\n\nEngage with leading experts through interactive Q+A periods\, enhancing your professional practice.\n\n\nNetwork with peers across industries and across the table\, building bridges and fostering collaborative approaches to bargaining challenges.\n\n\nSample Materials \nClick the following link to see an excerpt from a previous year’s materials. \n\nClick here to learn more about the associated Skills Training Workshop\nWednesday\, December 2\, 2026 \nComing Soon. \n\nFood and Beverages \nBreakfast and lunch to be provided\, with a variety of snacks and refreshments available during breaks. Breakfast is provided prior to the workshop and will be available starting at 8:00 am. Please share any dietary requirements at the time of registration so we can best accommodate your needs. \n\nChanges and Notifications \nAll dates\, prices\, and locations are subject to change. Registrants will be notified of any changes to venues or dates. If you have any questions\, please contact customerservice@lancasterhouse.com. \n\nPricing \nOntario Bargaining in the Broader Public Sector Conference \n$1\,455.00Add to cart	\n			\n  \nOntario Bargaining in the Broader Public Sector Conference + Ontario Bargaining in the Broader Public Sector Skills Training Workshop \n$2\,355.00Add to cart	\n			\n  \n\nOntario Bargaining in the Broader Public Sector Conference + Ontario Labour Arbitration and Policy Conference + Ontario Labour Arbitration and Policy Skills Training Workshop or Ontario Bargaining in the Broader Public Sector Skills Training Workshop \n$2\,995.00Add to cart	\n			\n  \n\nOntario Labour Arbitration and Policy ConferenceAttend Lancaster House’s Ontario Labour Arbitration and Policy Conference\, taking place on December 3\, 2026. \nTailored for labour relations professionals\, lawyers\, and consultants\, as well as arbitrators and mediators\, the event will feature engaging discussions on the latest caselaw and legislative updates and procedural tools and challenges. Connect with leading legal and labour relations professionals and build the knowledge and relationships essential for success in Eastern Canada’s legal landscape. \n\nFeatured Workshops \nAttendees have the option to attend one of two featured workshops offered by Lancaster’s Centre for Labour Relations Training & Development\, taking place at the same venue on December 4\, 2026. \nIn these interactive\, day-long workshops\, participants will hear from leading experts and work in small groups on skill-building exercises\, learning practical tools and techniques that will prove invaluable in day-to-day work. \nCheck back soon for more details. \nOntario Bargaining in the Broader Public Sector Skills Training Workshop \nOntario Labour Arbitration and Policy Conference Skills Training Workshop \n\nConference Co-Chairs \nComing Soon. \n\nAdvisory Committee \nComing Soon. \n\nCPD \nConference CPD\nLancaster House provides professional education programs that qualify for CPD credit for human resources professionals\, lawyers\, and paralegals across Canada. More details regarding specific approvals from CPD accreditors to come.
URL:https://lancasterhouse.com/event/ontario-bargaining-in-the-broader-public-sector-conference/
LOCATION:Sheraton Centre Toronto Hotel\, 123 Queen Street West\, Toronto\, Ontario\, M5H 3M9 Most popular places at this add\, Canada
CATEGORIES:Bargaining in the Broader Public Sector Conference,Conference
ATTACH;FMTTYPE=image/jpeg:https://lancasterhouse.com/wp-content/uploads/2023/11/virtual-pensions-2024-headers.jpg
END:VEVENT
END:VCALENDAR